Workbook

Sheet SPACE-MAPPER.CN
A1: # ISS (ZARYA) Position & Velocity Report (ECI | B1: J2000)
A2: # ISS (ZARYA) 位置与速度报告 (地心惯性系 | B2: J2000)
A4: # SpaceMapper Orbit Prediction Service (太空地图轨道预报服务)
A5: # Civil Space Activity Use Only (民商太空活动使用)
A7: # 太空地图编目编号 (AOE ID): 25544
A8: # 北美编目编号 (NORAD ID): 25544
A9: # 报告历元时间 (DATA EPOCH TIME): 2025-11-18T20:49:27.000Z
A10: # 报告轨道根数 (REPORT ORBIT DATA): https://spacemapper.cn/cgi/orbital/detail?id=2025dr994g6g6t
A11: # 报告轨迹描述 (REPORT TRAJECTORY): Trajectory data from 2025-11-19T00:00:00.000Z | B11: sampled every 60s.
A12: # 报告生成时间 (GENERATION TIME): 2025-11-19T07:20:39.157Z
A13: # 计算生成服务 (GENERATION SERVICE): SpaceMapper Position & Velocity Report Generator v1.0
A14: # 卫星资料 (SATELLITE DETAILS): https://spacemapper.cn/cgi/go?catId=25544
A15: # 最新轨道 (LATEST ORBIT DATA): https://spacemapper.cn/cgi/go?orbitCatId=25544
A16: # 最新报告 (LATEST REPORT): https://spacemapper.cn/cgi/go?pvCatId=25544
A17: # 报告版本 (REPORT VERSION): 1.0
A20: Time (UTC) | B20: x (km) | C20: y (km) | D20: z (km) | E20: vx (km/sec) | F20: vy (km/sec) | G20: vz (km/sec)
A21: 2025-11-19T00:00:00.000Z | B21: 186.36569 | C21: -6569.856 | D21: 1716.6175 | E21: 4.886218 | F21: 1.632339 | G21: 5.674963
A22: 2025-11-19T00:01:00.000Z | B22: 478.88803 | C22: -6456.943 | D22: 2052.9111 | E22: 4.860803 | F22: 2.129989 | G22: 5.530547
A23: 2025-11-19T00:02:00.000Z | B23: 769.21657 | C23: -6314.4512 | D23: 2379.7735 | E23: 4.813118 | F23: 2.617916 | G23: 5.360712
A24: 2025-11-19T00:03:00.000Z | B24: 1056.0211 | C24: -6143.032 | D24: 2695.7026 | E24: 4.743382 | F24: 3.093869 | G24: 5.166242
A25: 2025-11-19T00:04:00.000Z | B25: 1337.9877 | C25: -5943.4699 | D25: 2999.2465 | E25: 4.651913 | F25: 3.555654 | G25: 4.948033
A26: 2025-11-19T00:05:00.000Z | B26: 1613.8245 | C26: -5716.679 | D26: 3289.0106 | E26: 4.539134 | F26: 4.001145 | G26: 4.707094
A27: 2025-11-19T00:06:00.000Z | B27: 1882.2679 | C27: -5463.6989 | D27: 3563.664 | E27: 4.405564 | F27: 4.428292 | G27: 4.444536
A28: 2025-11-19T00:07:00.000Z | B28: 2142.0885 | C28: -5185.6897 | D28: 3821.9453 | E28: 4.251819 | F28: 4.835134 | G28: 4.161572
A29: 2025-11-19T00:08:00.000Z | B29: 2392.0966 | C29: -4883.9261 | D29: 4062.6691 | E29: 4.078607 | F29: 5.219803 | G29: 3.859508
A30: 2025-11-19T00:09:00.000Z | B30: 2631.1477 | C30: -4559.792 | D30: 4284.7307 | E30: 3.886726 | F30: 5.580536 | G30: 3.539738
A31: 2025-11-19T00:10:00.000Z | B31: 2858.1477 | C31: -4214.7736 | D31: 4487.1114 | E31: 3.677059 | F31: 5.915682 | G31: 3.203734
A32: 2025-11-19T00:11:00.000Z | B32: 3072.058 | C32: -3850.4528 | D32: 4668.8834 | E32: 3.45057 | F32: 6.22371 | G32: 2.853043
... A687: 2025-11-19T11:06:00.000Z | B687: 3844.1544 | C687: -1938.9434 | D687: 5244.7221 | E687: 2.380001 | F687: 7.229207 | G687: 0.925448

Sheet STK SOFTWARE
A1: Time (UTCG) | B1: x (km) | C1: y (km) | D1: z (km) | E1: vx (km/sec) | F1: vy (km/sec) | G1: vz (km/sec)
A2: 45980 | B2: 186.36569 | C2: -6569.856 | D2: 1716.6175 | E2: 4.886218 | F2: 1.632339 | G2: 5.674963
A3: 45980.001 | B3: 478.88803 | C3: -6456.943 | D3: 2052.9111 | E3: 4.860803 | F3: 2.129989 | G3: 5.530547
A4: 45980.001 | B4: 769.21657 | C4: -6314.4512 | D4: 2379.7735 | E4: 4.813118 | F4: 2.617916 | G4: 5.360712
A5: 45980.002 | B5: 1056.0211 | C5: -6143.032 | D5: 2695.7026 | E5: 4.743382 | F5: 3.093869 | G5: 5.166242
A6: 45980.003 | B6: 1337.9877 | C6: -5943.4699 | D6: 2999.2465 | E6: 4.651913 | F6: 3.555654 | G6: 4.948034
A7: 45980.003 | B7: 1613.8245 | C7: -5716.679 | D7: 3289.0106 | E7: 4.539134 | F7: 4.001145 | G7: 4.707094
A8: 45980.004 | B8: 1882.2679 | C8: -5463.6989 | D8: 3563.664 | E8: 4.405564 | F8: 4.428292 | G8: 4.444536
A9: 45980.005 | B9: 2142.0885 | C9: -5185.6897 | D9: 3821.9453 | E9: 4.251819 | F9: 4.835134 | G9: 4.161572
A10: 45980.006 | B10: 2392.0966 | C10: -4883.9261 | D10: 4062.6691 | E10: 4.078607 | F10: 5.219803 | G10: 3.859508
A11: 45980.006 | B11: 2631.1477 | C11: -4559.792 | D11: 4284.7307 | E11: 3.886726 | F11: 5.580536 | G11: 3.539738
A12: 45980.007 | B12: 2858.1477 | C12: -4214.7736 | D12: 4487.1114 | E12: 3.677059 | F12: 5.915682 | G12: 3.203734
A13: 45980.008 | B13: 3072.058 | C13: -3850.4528 | D13: 4668.8834 | E13: 3.45057 | F13: 6.22371 | G13: 2.853043
... A2042: 45981.417 | B2042: -1436.7045 | C2042: -6597.8111 | D2042: 758.08654 | E2042: 4.832783 | F2042: -0.359672 | G2042: 5.935911

Sheet different
B2: dx = x1 - x2
B3: dy = y1 - y2
B4: dz = z1 - z2
B5: dvx = vx1 - vx2
B6: dvy = vy1 - vy2
B7: dvz = vz1 - vz2
B9: dx | C9: dy | D9: dz | E9: dvx | F9: dvy | G9: dvz
A10: ='SPACE-MAPPER.CN'!A21 -> 2025-11-19T00:00:00.000Z | B10: ='SPACE-MAPPER.CN'!B21-'STK SOFTWARE'!B2 -> 0 | C10: ='SPACE-MAPPER.CN'!C21-'STK SOFTWARE'!C2 -> 0 | D10: ='SPACE-MAPPER.CN'!D21-'STK SOFTWARE'!D2 -> -1.0000001e-06 | E10: ='SPACE-MAPPER.CN'!E21-'STK SOFTWARE'!E2 -> 0 | F10: ='SPACE-MAPPER.CN'!F21-'STK SOFTWARE'!F2 -> 0 | G10: ='SPACE-MAPPER.CN'!G21-'STK SOFTWARE'!G2 -> 0
A11: ='SPACE-MAPPER.CN'!A22 -> 2025-11-19T00:01:00.000Z | B11: ='SPACE-MAPPER.CN'!B22-'STK SOFTWARE'!B3 -> 0 | C11: ='SPACE-MAPPER.CN'!C22-'STK SOFTWARE'!C3 -> -1.0000003e-06 | D11: ='SPACE-MAPPER.CN'!D22-'STK SOFTWARE'!D3 -> -9.9999988e-07 | E11: ='SPACE-MAPPER.CN'!E22-'STK SOFTWARE'!E3 -> 0 | F11: ='SPACE-MAPPER.CN'!F22-'STK SOFTWARE'!F3 -> 0 | G11: ='SPACE-MAPPER.CN'!G22-'STK SOFTWARE'!G3 -> 0
A12: ='SPACE-MAPPER.CN'!A23 -> 2025-11-19T00:02:00.000Z | B12: ='SPACE-MAPPER.CN'!B23-'STK SOFTWARE'!B4 -> 0 | C12: ='SPACE-MAPPER.CN'!C23-'STK SOFTWARE'!C4 -> 0 | D12: ='SPACE-MAPPER.CN'!D23-'STK SOFTWARE'!D4 -> -9.9999988e-07 | E12: ='SPACE-MAPPER.CN'!E23-'STK SOFTWARE'!E4 -> 0 | F12: ='SPACE-MAPPER.CN'!F23-'STK SOFTWARE'!F4 -> 0 | G12: ='SPACE-MAPPER.CN'!G23-'STK SOFTWARE'!G4 -> 0
A13: ='SPACE-MAPPER.CN'!A24 -> 2025-11-19T00:03:00.000Z | B13: ='SPACE-MAPPER.CN'!B24-'STK SOFTWARE'!B5 -> 0 | C13: ='SPACE-MAPPER.CN'!C24-'STK SOFTWARE'!C5 -> 0 | D13: ='SPACE-MAPPER.CN'!D24-'STK SOFTWARE'!D5 -> 0 | E13: ='SPACE-MAPPER.CN'!E24-'STK SOFTWARE'!E5 -> 0 | F13: ='SPACE-MAPPER.CN'!F24-'STK SOFTWARE'!F5 -> 0 | G13: ='SPACE-MAPPER.CN'!G24-'STK SOFTWARE'!G5 -> 0
A14: ='SPACE-MAPPER.CN'!A25 -> 2025-11-19T00:04:00.000Z | B14: ='SPACE-MAPPER.CN'!B25-'STK SOFTWARE'!B6 -> 0 | C14: ='SPACE-MAPPER.CN'!C25-'STK SOFTWARE'!C6 -> 0 | D14: ='SPACE-MAPPER.CN'!D25-'STK SOFTWARE'!D6 -> -1.0000003e-06 | E14: ='SPACE-MAPPER.CN'!E25-'STK SOFTWARE'!E6 -> 0 | F14: ='SPACE-MAPPER.CN'!F25-'STK SOFTWARE'!F6 -> 0 | G14: ='SPACE-MAPPER.CN'!G25-'STK SOFTWARE'!G6 -> -1e-06
A15: ='SPACE-MAPPER.CN'!A26 -> 2025-11-19T00:05:00.000Z | B15: ='SPACE-MAPPER.CN'!B26-'STK SOFTWARE'!B7 -> 0 | C15: ='SPACE-MAPPER.CN'!C26-'STK SOFTWARE'!C7 -> 0 | D15: ='SPACE-MAPPER.CN'!D26-'STK SOFTWARE'!D7 -> 0 | E15: ='SPACE-MAPPER.CN'!E26-'STK SOFTWARE'!E7 -> 0 | F15: ='SPACE-MAPPER.CN'!F26-'STK SOFTWARE'!F7 -> 0 | G15: ='SPACE-MAPPER.CN'!G26-'STK SOFTWARE'!G7 -> 0
A16: ='SPACE-MAPPER.CN'!A27 -> 2025-11-19T00:06:00.000Z | B16: ='SPACE-MAPPER.CN'!B27-'STK SOFTWARE'!B8 -> 0 | C16: ='SPACE-MAPPER.CN'!C27-'STK SOFTWARE'!C8 -> -1.0000003e-06 | D16: ='SPACE-MAPPER.CN'!D27-'STK SOFTWARE'!D8 -> 0 | E16: ='SPACE-MAPPER.CN'!E27-'STK SOFTWARE'!E8 -> 0 | F16: ='SPACE-MAPPER.CN'!F27-'STK SOFTWARE'!F8 -> 0 | G16: ='SPACE-MAPPER.CN'!G27-'STK SOFTWARE'!G8 -> 0
A17: ='SPACE-MAPPER.CN'!A28 -> 2025-11-19T00:07:00.000Z | B17: ='SPACE-MAPPER.CN'!B28-'STK SOFTWARE'!B9 -> 0 | C17: ='SPACE-MAPPER.CN'!C28-'STK SOFTWARE'!C9 -> 0 | D17: ='SPACE-MAPPER.CN'!D28-'STK SOFTWARE'!D9 -> 0 | E17: ='SPACE-MAPPER.CN'!E28-'STK SOFTWARE'!E9 -> 0 | F17: ='SPACE-MAPPER.CN'!F28-'STK SOFTWARE'!F9 -> 0 | G17: ='SPACE-MAPPER.CN'!G28-'STK SOFTWARE'!G9 -> 0
A18: ='SPACE-MAPPER.CN'!A29 -> 2025-11-19T00:08:00.000Z | B18: ='SPACE-MAPPER.CN'!B29-'STK SOFTWARE'!B10 -> 9.9999988e-07 | C18: ='SPACE-MAPPER.CN'!C29-'STK SOFTWARE'!C10 -> 0 | D18: ='SPACE-MAPPER.CN'!D29-'STK SOFTWARE'!D10 -> 0 | E18: ='SPACE-MAPPER.CN'!E29-'STK SOFTWARE'!E10 -> 0 | F18: ='SPACE-MAPPER.CN'!F29-'STK SOFTWARE'!F10 -> 0 | G18: ='SPACE-MAPPER.CN'!G29-'STK SOFTWARE'!G10 -> 0
A19: ='SPACE-MAPPER.CN'!A30 -> 2025-11-19T00:09:00.000Z | B19: ='SPACE-MAPPER.CN'!B30-'STK SOFTWARE'!B11 -> 0 | C19: ='SPACE-MAPPER.CN'!C30-'STK SOFTWARE'!C11 -> 0 | D19: ='SPACE-MAPPER.CN'!D30-'STK SOFTWARE'!D11 -> 0 | E19: ='SPACE-MAPPER.CN'!E30-'STK SOFTWARE'!E11 -> 0 | F19: ='SPACE-MAPPER.CN'!F30-'STK SOFTWARE'!F11 -> 0 | G19: ='SPACE-MAPPER.CN'!G30-'STK SOFTWARE'!G11 -> 0
A20: ='SPACE-MAPPER.CN'!A31 -> 2025-11-19T00:10:00.000Z | B20: ='SPACE-MAPPER.CN'!B31-'STK SOFTWARE'!B12 -> 0 | C20: ='SPACE-MAPPER.CN'!C31-'STK SOFTWARE'!C12 -> 0 | D20: ='SPACE-MAPPER.CN'!D31-'STK SOFTWARE'!D12 -> 0 | E20: ='SPACE-MAPPER.CN'!E31-'STK SOFTWARE'!E12 -> 0 | F20: ='SPACE-MAPPER.CN'!F31-'STK SOFTWARE'!F12 -> 0 | G20: ='SPACE-MAPPER.CN'!G31-'STK SOFTWARE'!G12 -> 0
A21: ='SPACE-MAPPER.CN'!A32 -> 2025-11-19T00:11:00.000Z | B21: ='SPACE-MAPPER.CN'!B32-'STK SOFTWARE'!B13 -> 0 | C21: ='SPACE-MAPPER.CN'!C32-'STK SOFTWARE'!C13 -> 0 | D21: ='SPACE-MAPPER.CN'!D32-'STK SOFTWARE'!D13 -> 0 | E21: ='SPACE-MAPPER.CN'!E32-'STK SOFTWARE'!E13 -> 0 | F21: ='SPACE-MAPPER.CN'!F32-'STK SOFTWARE'!F13 -> 0 | G21: ='SPACE-MAPPER.CN'!G32-'STK SOFTWARE'!G13 -> 0
... A67: ='SPACE-MAPPER.CN'!A78 -> 2025-11-19T00:57:00.000Z | B67: ='SPACE-MAPPER.CN'!B78-'STK SOFTWARE'!B59 -> 0 | C67: ='SPACE-MAPPER.CN'!C78-'STK SOFTWARE'!C59 -> 0 | D67: ='SPACE-MAPPER.CN'!D78-'STK SOFTWARE'!D59 -> 1.0000003e-06 | E67: ='SPACE-MAPPER.CN'!E78-'STK SOFTWARE'!E59 -> 0 | F67: ='SPACE-MAPPER.CN'!F78-'STK SOFTWARE'!F59 -> 0 | G67: ='SPACE-MAPPER.CN'!G78-'STK SOFTWARE'!G59 -> 0
